BEGIN:VCALENDAR
VERSION:2.0
PRODID:icalendar-ruby
CALSCALE:GREGORIAN
METHOD:PUBLISH
BEGIN:VEVENT
DTSTAMP:20260424T000118Z
UID:5-1323345@lexefc.com
DTSTART:20261004T160000Z
DTEND:20261004T170000Z
CLASS:PUBLIC
CREATED:20260423T182449
DESCRIPTION:Beginning on October 8th we will be examining the "Foundations 
 of our Faith" through a study of several Old Testament characters who teac
 h us about God's revelation of Himself. We have much to learn as we explor
 e how these ancient characters came to discover God and his plan for manki
 nd. Their contribution to our understanding of God and the Scriptures is t
 ruly foundational.
LAST-MODIFIED:20260423T182449
LOCATION:
SUMMARY:Sunday Worship
URL;VALUE=URI:https://lexefc.com/events/sunday-worship/2026-10-04
ATTACH;FILENAME=IMG-1384.jpg;FMTTYPE=image/jpeg:https://dq5pwpg1q8ru0.cloud
 front.net/2023/09/05/16/15/43/45f5de32-8b94-4d1d-9665-0ef5454faea3/IMG-138
 4.jpg
END:VEVENT
END:VCALENDAR
